BEGIN:VCALENDAR
VERSION:2.0
PRODID:-//City of Cumming - ECPv6.6.1//NONSGML v1.0//EN
CALSCALE:GREGORIAN
METHOD:PUBLISH
X-ORIGINAL-URL:https://www.cityofcumming.net
X-WR-CALDESC:Events for City of Cumming
REFRESH-INTERVAL;VALUE=DURATION:PT1H
X-Robots-Tag:noindex
X-PUBLISHED-TTL:PT1H
BEGIN:VTIMEZONE
TZID:America/New_York
BEGIN:DAYLIGHT
TZOFFSETFROM:-0500
TZOFFSETTO:-0400
TZNAME:EDT
DTSTART:20180311T070000
END:DAYLIGHT
BEGIN:STANDARD
TZOFFSETFROM:-0400
TZOFFSETTO:-0500
TZNAME:EST
DTSTART:20181104T060000
END:STANDARD
END:VTIMEZONE
BEGIN:VEVENT
DTSTART;TZID=America/New_York:20180707T023000
DTEND;TZID=America/New_York:20180707T040000
DTSTAMP:20260420T021954
CREATED:20180626T061728Z
LAST-MODIFIED:20180626T061728Z
UID:388-1530930600-1530936000@www.cityofcumming.net
SUMMARY:Cumming Farmers’ Market
DESCRIPTION:July 7\, 11\, 14\, 18\, 21\, 25\, 28\, 6:30 a.m. until vendors sell out
URL:https://www.cityofcumming.net/event/cumming-farmers-market
LOCATION:Cumming Fairgrounds Parking Lot 3
END:VEVENT
END:VCALENDAR