BEGIN:VCALENDAR
VERSION:2.0
PRODID:-//City of Cumming - ECPv6.6.1//NONSGML v1.0//EN
CALSCALE:GREGORIAN
METHOD:PUBLISH
X-WR-CALNAME:City of Cumming
X-ORIGINAL-URL:https://www.cityofcumming.net
X-WR-CALDESC:Events for City of Cumming
REFRESH-INTERVAL;VALUE=DURATION:PT1H
X-Robots-Tag:noindex
X-PUBLISHED-TTL:PT1H
BEGIN:VTIMEZONE
TZID:America/New_York
BEGIN:DAYLIGHT
TZOFFSETFROM:-0500
TZOFFSETTO:-0400
TZNAME:EDT
DTSTART:20180311T070000
END:DAYLIGHT
BEGIN:STANDARD
TZOFFSETFROM:-0400
TZOFFSETTO:-0500
TZNAME:EST
DTSTART:20181104T060000
END:STANDARD
END:VTIMEZONE
BEGIN:VEVENT
DTSTART;TZID=America/New_York:20180811T160000
DTEND;TZID=America/New_York:20180811T180000
DTSTAMP:20260421T204941
CREATED:20180906T190757Z
LAST-MODIFIED:20180906T190757Z
UID:476-1534003200-1534010400@www.cityofcumming.net
SUMMARY:Peppino ‘d Agostino and Carolos Reyes
DESCRIPTION:Playhouse
URL:https://www.cityofcumming.net/event/peppino-d-agostino-and-carolos-reyes
LOCATION:GA
END:VEVENT
END:VCALENDAR