BEGIN:VCALENDAR
VERSION:2.0
PRODID:-//City of Cumming - ECPv6.6.1//NONSGML v1.0//EN
CALSCALE:GREGORIAN
METHOD:PUBLISH
X-ORIGINAL-URL:https://www.cityofcumming.net
X-WR-CALDESC:Events for City of Cumming
REFRESH-INTERVAL;VALUE=DURATION:PT1H
X-Robots-Tag:noindex
X-PUBLISHED-TTL:PT1H
BEGIN:VTIMEZONE
TZID:America/New_York
BEGIN:DAYLIGHT
TZOFFSETFROM:-0500
TZOFFSETTO:-0400
TZNAME:EDT
DTSTART:20200308T070000
END:DAYLIGHT
BEGIN:STANDARD
TZOFFSETFROM:-0400
TZOFFSETTO:-0500
TZNAME:EST
DTSTART:20201101T060000
END:STANDARD
END:VTIMEZONE
BEGIN:VEVENT
DTSTART;TZID=America/New_York:20201215T120000
DTEND;TZID=America/New_York:20201215T123000
DTSTAMP:20260419T185637
CREATED:20200914T204958Z
LAST-MODIFIED:20200914T204958Z
UID:9339-1608033600-1608035400@www.cityofcumming.net
SUMMARY:Planning & Zoning Commission Meeting
DESCRIPTION:
URL:https://www.cityofcumming.net/event/planning-zoning-commission-meeting-4
LOCATION:Cumming City Hall (Council Chambers – Third Floor)
END:VEVENT
BEGIN:VEVENT
DTSTART;TZID=America/New_York:20201215T130000
DTEND;TZID=America/New_York:20201215T140000
DTSTAMP:20260419T185637
CREATED:20200914T205123Z
LAST-MODIFIED:20200914T205123Z
UID:9341-1608037200-1608040800@www.cityofcumming.net
SUMMARY:City Council Regular Meeting
DESCRIPTION:
URL:https://www.cityofcumming.net/event/city-council-regular-meeting-16
LOCATION:Cumming City Hall (Council Chambers – Third Floor)
END:VEVENT
END:VCALENDAR