BEGIN:VCALENDAR
VERSION:2.0
PRODID:-//City of Cumming - ECPv6.6.1//NONSGML v1.0//EN
CALSCALE:GREGORIAN
METHOD:PUBLISH
X-ORIGINAL-URL:https://www.cityofcumming.net
X-WR-CALDESC:Events for City of Cumming
REFRESH-INTERVAL;VALUE=DURATION:PT1H
X-Robots-Tag:noindex
X-PUBLISHED-TTL:PT1H
BEGIN:VTIMEZONE
TZID:America/New_York
BEGIN:DAYLIGHT
TZOFFSETFROM:-0500
TZOFFSETTO:-0400
TZNAME:EDT
DTSTART:20220313T070000
END:DAYLIGHT
BEGIN:STANDARD
TZOFFSETFROM:-0400
TZOFFSETTO:-0500
TZNAME:EST
DTSTART:20221106T060000
END:STANDARD
END:VTIMEZONE
BEGIN:VEVENT
DTSTART;TZID=America/New_York:20221119T050000
DTEND;TZID=America/New_York:20221119T120000
DTSTAMP:20260420T041145
CREATED:20221110T220149Z
LAST-MODIFIED:20221110T220216Z
UID:10775-1668834000-1668859200@www.cityofcumming.net
SUMMARY:City Center Winter Pop-Up Market
DESCRIPTION:Join us at the Cumming City Center on Saturday\, Nov. 19th from 10 a.m. to 5 p.m. for a full day of holiday fun! Kick off your Christmas shopping season with dozens of local vendors at the City Center Winter Pop-Up Market; there’ll also be photos with Santa all day\, gingerbread man decorating\, family crafts\, food trucks\, live music and more!
URL:https://www.cityofcumming.net/event/city-center-winter-pop-up-market
LOCATION:Cumming City Center\, 423 Canton Road\, Cumming\, GA\, 30040\, United States
END:VEVENT
BEGIN:VEVENT
DTSTART;TZID=America/New_York:20221119T130000
DTEND;TZID=America/New_York:20221119T150000
DTSTAMP:20260420T041145
CREATED:20221110T220749Z
LAST-MODIFIED:20221110T220749Z
UID:10779-1668862800-1668870000@www.cityofcumming.net
SUMMARY:Christmas Tree Lighting at the City Center
DESCRIPTION:Following the City Center’s Winter Pop-Up Market on Saturday\, Nov. 19th\, be sure to stick around for our first ever Christmas Tree Lighting at 6 p.m.! Presented by Browns Bridge Church\, this event will feature the lighting of our giant City Center Christmas tree\, as well as live music\, family-friendly activities\, Santa photos\, and hot cocoa and other holiday treats for purchase from local food vendors.
URL:https://www.cityofcumming.net/event/christmas-tree-lighting-at-the-city-center
LOCATION:Cumming City Center\, 423 Canton Road\, Cumming\, GA\, 30040\, United States
END:VEVENT
END:VCALENDAR