BEGIN:VCALENDAR
VERSION:2.0
PRODID:-//City of Cumming - ECPv6.6.1//NONSGML v1.0//EN
CALSCALE:GREGORIAN
METHOD:PUBLISH
X-ORIGINAL-URL:https://www.cityofcumming.net
X-WR-CALDESC:Events for City of Cumming
REFRESH-INTERVAL;VALUE=DURATION:PT1H
X-Robots-Tag:noindex
X-PUBLISHED-TTL:PT1H
BEGIN:VTIMEZONE
TZID:America/New_York
BEGIN:DAYLIGHT
TZOFFSETFROM:-0500
TZOFFSETTO:-0400
TZNAME:EDT
DTSTART:20240310T070000
END:DAYLIGHT
BEGIN:STANDARD
TZOFFSETFROM:-0400
TZOFFSETTO:-0500
TZNAME:EST
DTSTART:20241103T060000
END:STANDARD
END:VTIMEZONE
BEGIN:VEVENT
DTSTART;TZID=America/New_York:20240524T070000
DTEND;TZID=America/New_York:20240524T083000
DTSTAMP:20260420T232758
CREATED:20240412T191907Z
LAST-MODIFIED:20240412T191907Z
UID:11740-1716534000-1716539400@www.cityofcumming.net
SUMMARY:Annual Memorial Day Ceremony
DESCRIPTION:
URL:https://www.cityofcumming.net/event/annual-memorial-day-ceremony
LOCATION:Cumming City Center\, 423 Canton Road\, Cumming\, GA\, 30040\, United States
END:VEVENT
BEGIN:VEVENT
DTSTART;TZID=America/New_York:20240524T150000
DTEND;TZID=America/New_York:20240524T170000
DTSTAMP:20260420T232758
CREATED:20240430T203852Z
LAST-MODIFIED:20240430T203852Z
UID:11795-1716562800-1716570000@www.cityofcumming.net
SUMMARY:Mike Veal Band in Concert at the City Center
DESCRIPTION:Presented by the City Center and Four Carsons Entertainment\, the Mike Veal Band performs at the Lou Sobh Amphitheater on May 24th!
URL:https://www.cityofcumming.net/event/mike-veal-band-in-concert-at-the-city-center
LOCATION:Cumming City Center\, 423 Canton Road\, Cumming\, GA\, 30040\, United States
END:VEVENT
END:VCALENDAR