BEGIN:VCALENDAR
VERSION:2.0
PRODID:-//City of Cumming - ECPv6.6.1//NONSGML v1.0//EN
CALSCALE:GREGORIAN
METHOD:PUBLISH
X-ORIGINAL-URL:https://www.cityofcumming.net
X-WR-CALDESC:Events for City of Cumming
REFRESH-INTERVAL;VALUE=DURATION:PT1H
X-Robots-Tag:noindex
X-PUBLISHED-TTL:PT1H
BEGIN:VTIMEZONE
TZID:America/New_York
BEGIN:DAYLIGHT
TZOFFSETFROM:-0500
TZOFFSETTO:-0400
TZNAME:EDT
DTSTART:20240310T070000
END:DAYLIGHT
BEGIN:STANDARD
TZOFFSETFROM:-0400
TZOFFSETTO:-0500
TZNAME:EST
DTSTART:20241103T060000
END:STANDARD
END:VTIMEZONE
BEGIN:VEVENT
DTSTART;TZID=America/New_York:20240530T070000
DTEND;TZID=America/New_York:20240530T100000
DTSTAMP:20260424T150008
CREATED:20240430T204504Z
LAST-MODIFIED:20240430T204504Z
UID:11799-1717052400-1717063200@www.cityofcumming.net
SUMMARY:Kidz Dayz at the City Center
DESCRIPTION:Schools out and the fun is on! Join us for Kidz Dayz – A brand-new event series for kids of all ages. The event will feature outdoor games\, kid vendors\, cotton candy\, face painting and MORE! Parents can kick back\, relax\, and mingle with one another while watching their little ones play. Get ready to soak up the sun while soaking up the fun! \nPlease note: ALL minors MUST be accompanied by an adult.
URL:https://www.cityofcumming.net/event/kidz-dayz-at-the-city-center
LOCATION:Cumming City Center\, 423 Canton Road\, Cumming\, GA\, 30040\, United States
END:VEVENT
END:VCALENDAR