BEGIN:VCALENDAR
VERSION:2.0
PRODID:-//City of Cumming - ECPv6.6.1//NONSGML v1.0//EN
CALSCALE:GREGORIAN
METHOD:PUBLISH
X-WR-CALNAME:City of Cumming
X-ORIGINAL-URL:https://www.cityofcumming.net
X-WR-CALDESC:Events for City of Cumming
REFRESH-INTERVAL;VALUE=DURATION:PT1H
X-Robots-Tag:noindex
X-PUBLISHED-TTL:PT1H
BEGIN:VTIMEZONE
TZID:America/New_York
BEGIN:DAYLIGHT
TZOFFSETFROM:-0500
TZOFFSETTO:-0400
TZNAME:EDT
DTSTART:20240310T070000
END:DAYLIGHT
BEGIN:STANDARD
TZOFFSETFROM:-0400
TZOFFSETTO:-0500
TZNAME:EST
DTSTART:20241103T060000
END:STANDARD
END:VTIMEZONE
BEGIN:VEVENT
DTSTART;TZID=America/New_York:20240605T150000
DTEND;TZID=America/New_York:20240605T170000
DTSTAMP:20260421T235501
CREATED:20240430T205745Z
LAST-MODIFIED:20240430T205745Z
UID:11807-1717599600-1717606800@www.cityofcumming.net
SUMMARY:Wednesday Wind Down: Canon Tyler
DESCRIPTION:Wednesday Wind Down at the City Center Lou Sobh AmphitheaterPresented by Cumming City Center and Four Carson’s Entertainment at Lou Sobh Amphitheater \nCome out on June 5th as we kick off the Wednesday Wind Down Concert Series with Canon Tyler!
URL:https://www.cityofcumming.net/event/wednesday-wind-down-canon-tyler
LOCATION:Cumming City Center\, 423 Canton Road\, Cumming\, GA\, 30040\, United States
END:VEVENT
END:VCALENDAR