BEGIN:VCALENDAR
VERSION:2.0
PRODID:-//City of Cumming - ECPv6.6.1//NONSGML v1.0//EN
CALSCALE:GREGORIAN
METHOD:PUBLISH
X-ORIGINAL-URL:https://www.cityofcumming.net
X-WR-CALDESC:Events for City of Cumming
REFRESH-INTERVAL;VALUE=DURATION:PT1H
X-Robots-Tag:noindex
X-PUBLISHED-TTL:PT1H
BEGIN:VTIMEZONE
TZID:America/New_York
BEGIN:DAYLIGHT
TZOFFSETFROM:-0500
TZOFFSETTO:-0400
TZNAME:EDT
DTSTART:20240310T070000
END:DAYLIGHT
BEGIN:STANDARD
TZOFFSETFROM:-0400
TZOFFSETTO:-0500
TZNAME:EST
DTSTART:20241103T060000
END:STANDARD
END:VTIMEZONE
BEGIN:VEVENT
DTSTART;TZID=America/New_York:20240622T160000
DTEND;TZID=America/New_York:20240622T180000
DTSTAMP:20260422T144431
CREATED:20240603T200041Z
LAST-MODIFIED:20240603T200041Z
UID:11883-1719072000-1719079200@www.cityofcumming.net
SUMMARY:Big Bam Boom: Hall & Oates Tribute at the City Center
DESCRIPTION:Presented by Tin Cup\, Los Rios and The Well. Come out for this great tribute to one of the great 1980s bands\, Hall & Oates! \nPerfect for all ages and audiences. Free admission & free parking. No coolers\, outside food\, outside alcoholic beverages\, cans\, glass bottles\, or smoking allowed. Friendly dogs on-leash are welcome! BYO lawn chairs or blankets to sit on. Tents are not allowed. To ensure the safety and enjoyment of our patrons\, it is required that all balls are stored away once the music starts. Any throwing or kicking of objects is strictly prohibited during the show.
URL:https://www.cityofcumming.net/event/big-bam-boom-hall-oates-tribute-at-the-city-center
LOCATION:Cumming City Center\, 423 Canton Road\, Cumming\, GA\, 30040\, United States
END:VEVENT
END:VCALENDAR