BEGIN:VCALENDAR
VERSION:2.0
PRODID:-//City of Cumming - ECPv6.6.1//NONSGML v1.0//EN
CALSCALE:GREGORIAN
METHOD:PUBLISH
X-WR-CALNAME:City of Cumming
X-ORIGINAL-URL:https://www.cityofcumming.net
X-WR-CALDESC:Events for City of Cumming
REFRESH-INTERVAL;VALUE=DURATION:PT1H
X-Robots-Tag:noindex
X-PUBLISHED-TTL:PT1H
BEGIN:VTIMEZONE
TZID:America/New_York
BEGIN:DAYLIGHT
TZOFFSETFROM:-0500
TZOFFSETTO:-0400
TZNAME:EDT
DTSTART:20240310T070000
END:DAYLIGHT
BEGIN:STANDARD
TZOFFSETFROM:-0400
TZOFFSETTO:-0500
TZNAME:EST
DTSTART:20241103T060000
END:STANDARD
END:VTIMEZONE
BEGIN:VEVENT
DTSTART;TZID=America/New_York:20240629T060000
DTEND;TZID=America/New_York:20240629T100000
DTSTAMP:20260420T225544
CREATED:20240603T200306Z
LAST-MODIFIED:20240603T200306Z
UID:11885-1719640800-1719655200@www.cityofcumming.net
SUMMARY:Hot Rod Revival by Zealots at the City Center
DESCRIPTION:HOT ROD REVIVAL – Presented by ZEALOTSAll spectators welcome! Free Admission and Parking!\nTraditional Hot Rods\, customs\, and period stokers will be displayed in an exhibition style showing.\nPre-registration is required for participants NO EXCEPTIONS.\nContact Russ Pendley at 678-575-0628 for more detail.
URL:https://www.cityofcumming.net/event/hot-rod-revival-by-zealots-at-the-city-center
LOCATION:Cumming City Center\, 423 Canton Road\, Cumming\, GA\, 30040\, United States
END:VEVENT
BEGIN:VEVENT
DTSTART;TZID=America/New_York:20240629T060000
DTEND;TZID=America/New_York:20240629T150000
DTSTAMP:20260420T225544
CREATED:20240611T181005Z
LAST-MODIFIED:20240611T181005Z
UID:11992-1719640800-1719673200@www.cityofcumming.net
SUMMARY:Hello Summer! Inflatable Party at the City Center
DESCRIPTION:Hello Summer! Looking for something to do with the kids? We’ve got you covered.Join us at the Cumming City Center for an Inflatable Party with Jump N Jacks Moonwalks.There will be bounce houses\, waterslides and games!$10 per child
URL:https://www.cityofcumming.net/event/hello-summer-inflatable-party-at-the-city-center
LOCATION:Cumming City Center\, 423 Canton Road\, Cumming\, GA\, 30040\, United States
END:VEVENT
END:VCALENDAR