BEGIN:VCALENDAR
VERSION:2.0
PRODID:-//City of Cumming - ECPv6.6.1//NONSGML v1.0//EN
CALSCALE:GREGORIAN
METHOD:PUBLISH
X-ORIGINAL-URL:https://www.cityofcumming.net
X-WR-CALDESC:Events for City of Cumming
REFRESH-INTERVAL;VALUE=DURATION:PT1H
X-Robots-Tag:noindex
X-PUBLISHED-TTL:PT1H
BEGIN:VTIMEZONE
TZID:America/New_York
BEGIN:DAYLIGHT
TZOFFSETFROM:-0500
TZOFFSETTO:-0400
TZNAME:EDT
DTSTART:20240310T070000
END:DAYLIGHT
BEGIN:STANDARD
TZOFFSETFROM:-0400
TZOFFSETTO:-0500
TZNAME:EST
DTSTART:20241103T060000
END:STANDARD
END:VTIMEZONE
BEGIN:VEVENT
DTSTART;TZID=America/New_York:20240802T120000
DTEND;TZID=America/New_York:20240802T210000
DTSTAMP:20260422T131531
CREATED:20240619T230341Z
LAST-MODIFIED:20240723T161721Z
UID:12014-1722600000-1722632400@www.cityofcumming.net
SUMMARY:Big Bounce & Slide Festival at Fairgrounds
DESCRIPTION:Come out to the Cumming Fairgrounds on Aug. 2nd\, 3rd\, and 4th for a day of inflatable fun featuring more than 80 inflatables\, carnival rides\, obstacle courses\, bounce houses\, rock climbing walls\, foam\, food trucks\, games\, and more! \n$25 a Day for Unlimited Inflatables Only; $35 a Day for Unlimited Inflatables and Rides; $75 for a Family 4-Pack including Unlimited Inflatables and Rides; $10 for Admission Only (No Inflatables or Rides) \nFor more info: https://bouncehouseatlanta.com/
URL:https://www.cityofcumming.net/event/big-bounce-slide-festival-at-fairgrounds
LOCATION:Cumming Fairgrounds
END:VEVENT
BEGIN:VEVENT
DTSTART;TZID=America/New_York:20240802T200000
DTEND;TZID=America/New_York:20240802T220000
DTSTAMP:20260422T131531
CREATED:20240603T202442Z
LAST-MODIFIED:20240723T161648Z
UID:11911-1722628800-1722636000@www.cityofcumming.net
SUMMARY:SkynFolks: Lynyrd Skynyrd Tribute at the City Center
DESCRIPTION:Presented by Cumming City Center and Four Carson’s Entertainment at Lou Sobh Amphitheater\nA Lynyrd Skynyrd Tribute. Brought together by luck\, fate\, devotion and drive\, the members of SkynFolks pledged to create a band that would exactly reproduce the music of Lynyrd Skynyrd. \nFree admission & free parking. No coolers\, outside food\, outside alcoholic beverages\, cans\, glass bottles\, or smoking allowed. Friendly dogs on-leash are welcome! BYO lawn chairs or blankets to sit on. Tents are not allowed. \nTo ensure the safety and enjoyment of our patrons\, it is required that all balls are stored away once the music starts. Any throwing or kicking of objects is strictly prohibited during the show.
URL:https://www.cityofcumming.net/event/skynfolks-lynyrd-skynyrd-tribute-at-the-city-center
LOCATION:Cumming City Center\, 423 Canton Road\, Cumming\, GA\, 30040\, United States
END:VEVENT
END:VCALENDAR