BEGIN:VCALENDAR
VERSION:2.0
PRODID:-//City of Cumming - ECPv6.6.1//NONSGML v1.0//EN
CALSCALE:GREGORIAN
METHOD:PUBLISH
X-ORIGINAL-URL:https://www.cityofcumming.net
X-WR-CALDESC:Events for City of Cumming
REFRESH-INTERVAL;VALUE=DURATION:PT1H
X-Robots-Tag:noindex
X-PUBLISHED-TTL:PT1H
BEGIN:VTIMEZONE
TZID:America/New_York
BEGIN:DAYLIGHT
TZOFFSETFROM:-0500
TZOFFSETTO:-0400
TZNAME:EDT
DTSTART:20240310T070000
END:DAYLIGHT
BEGIN:STANDARD
TZOFFSETFROM:-0400
TZOFFSETTO:-0500
TZNAME:EST
DTSTART:20241103T060000
END:STANDARD
END:VTIMEZONE
BEGIN:VEVENT
DTSTART;TZID=America/New_York:20240817T100000
DTEND;TZID=America/New_York:20240817T180000
DTSTAMP:20260425T231656
CREATED:20240603T202834Z
LAST-MODIFIED:20240723T161024Z
UID:11915-1723888800-1723917600@www.cityofcumming.net
SUMMARY:City Center Fall Market
DESCRIPTION:The City Center is partnering with tenant\, Pieces and Peaches\, to offer a seasonal fall pop-up market at the City Center! Presented every fall\, winter and spring\, the City Center Market will allow up to 100 local businesses and artisans the chance to bring in unique and high-quality items in a range of categories\, such as home wares and décor\, fashion and accessories\, and gift and food items. The family-friendly market will be set in a festival-like atmosphere with live music and other entertainment\, as well as games and activities for kids\, in addition to the various vendor booths! For vendor application updates\, check out Cumming City Center Market on Facebook.
URL:https://www.cityofcumming.net/event/city-center-fall-market
LOCATION:Cumming City Center\, 423 Canton Road\, Cumming\, GA\, 30040\, United States
END:VEVENT
BEGIN:VEVENT
DTSTART;TZID=America/New_York:20240817T200000
DTEND;TZID=America/New_York:20240817T220000
DTSTAMP:20260425T231656
CREATED:20240702T173258Z
LAST-MODIFIED:20240723T160954Z
UID:12052-1723924800-1723932000@www.cityofcumming.net
SUMMARY:Radio 80's Band at the City Center
DESCRIPTION:Presented by The Well\, Los Rios Cantina and Tin Cup Grill\n\nRadio 80’s Band delivers a must-see show and performs not just the standard songs you expect to hear from an 80s band\, but songs that go beyond that and make you realize how much more there was to love about the greatest decade of pop/rock music!\nPerforming in front of a video backdrop of 80’s movies\, video clips and iconic images\, you’ll hear greatest hits by crowd favorites like Bon Jovi\, Journey\, and Prince\, and also songs from artists like Toto\, Mr. Mister\, Cutting Crew\, Duran Duran\, Howard Jones and more! You get all this along with amazing vocals\, incredible musicians and high-energy fun guaranteed to make the night totally entertaining!\nRadio 80’s has opened for national touring acts\, played festivals\, city events as well as corporate and private shows. Their show is perfect for any environment and suitable for all ages!\n\nFree admission & free parking. No coolers\, outside food\, outside alcoholic beverages\, cans\, glass bottles\, or smoking allowed. Friendly dogs on-leash are welcome! BYO lawn chairs or blankets to sit on. Tents are not allowed.To ensure the safety and enjoyment of our patrons\, it is required that all balls are stored away once the music starts. Any throwing or kicking of objects is strictly prohibited during the show.
URL:https://www.cityofcumming.net/event/radio-80s-band-at-the-city-center
LOCATION:Cumming City Center\, 423 Canton Road\, Cumming\, GA\, 30040\, United States
END:VEVENT
END:VCALENDAR