BEGIN:VCALENDAR
VERSION:2.0
PRODID:-//City of Cumming - ECPv6.6.1//NONSGML v1.0//EN
CALSCALE:GREGORIAN
METHOD:PUBLISH
X-ORIGINAL-URL:https://www.cityofcumming.net
X-WR-CALDESC:Events for City of Cumming
REFRESH-INTERVAL;VALUE=DURATION:PT1H
X-Robots-Tag:noindex
X-PUBLISHED-TTL:PT1H
BEGIN:VTIMEZONE
TZID:America/New_York
BEGIN:DAYLIGHT
TZOFFSETFROM:-0500
TZOFFSETTO:-0400
TZNAME:EDT
DTSTART:20240310T070000
END:DAYLIGHT
BEGIN:STANDARD
TZOFFSETFROM:-0400
TZOFFSETTO:-0500
TZNAME:EST
DTSTART:20241103T060000
END:STANDARD
END:VTIMEZONE
BEGIN:VEVENT
DTSTART;TZID=America/New_York:20240901T190000
DTEND;TZID=America/New_York:20240901T213000
DTSTAMP:20260424T115317
CREATED:20240603T233026Z
LAST-MODIFIED:20240723T160353Z
UID:11980-1725217200-1725226200@www.cityofcumming.net
SUMMARY:IPRA World Championship Rodeo at the Fairgrounds
DESCRIPTION:The IPRA Rodeo is an annual Labor Day weekend event. The show last approximately 2.5 hours and features\, Bull Riding\, Bare Back Riding\, Barrel Racing\, Cowgirl Breakaway Roping\, Calf Roping\, Steer Wrestling\, Team Roping & Saddle Bronc Riding which are performed each night.
URL:https://www.cityofcumming.net/event/ipra-world-championship-rodeo-at-the-fairgrounds-3
LOCATION:Cumming Fairgrounds
END:VEVENT
END:VCALENDAR