BEGIN:VCALENDAR
VERSION:2.0
PRODID:-//City of Cumming - ECPv6.6.1//NONSGML v1.0//EN
CALSCALE:GREGORIAN
METHOD:PUBLISH
X-WR-CALNAME:City of Cumming
X-ORIGINAL-URL:https://www.cityofcumming.net
X-WR-CALDESC:Events for City of Cumming
REFRESH-INTERVAL;VALUE=DURATION:PT1H
X-Robots-Tag:noindex
X-PUBLISHED-TTL:PT1H
BEGIN:VTIMEZONE
TZID:America/New_York
BEGIN:DAYLIGHT
TZOFFSETFROM:-0500
TZOFFSETTO:-0400
TZNAME:EDT
DTSTART:20240310T070000
END:DAYLIGHT
BEGIN:STANDARD
TZOFFSETFROM:-0400
TZOFFSETTO:-0500
TZNAME:EST
DTSTART:20241103T060000
END:STANDARD
END:VTIMEZONE
BEGIN:VEVENT
DTSTART;TZID=America/New_York:20240905T180000
DTEND;TZID=America/New_York:20240905T200000
DTSTAMP:20260422T221057
CREATED:20240603T203333Z
LAST-MODIFIED:20240723T160232Z
UID:11921-1725559200-1725566400@www.cityofcumming.net
SUMMARY:City Center Cruise-In
DESCRIPTION:Get ready for an evening of classic cars and family fun! The Tin Cup Cruise-In Car Show will take place 6pm-8pm Thursday\, September 5th and continue on the first Thursday of every month. \nThe road will be shut down prior to the event. Beginning at 5pm classic cars can enter through the Canton Rd. entrance and park up the main street on a first come first serve basis. The street will be closed off once all car slots are full. \nFree admission and parking. Plenty of parking will be available in the parking deck and overflow lots. \nThere will be prizes from our very own Tin Cup! You don’t want to miss out on this Cruise-In fun!
URL:https://www.cityofcumming.net/event/city-center-cruise-in-3
LOCATION:Cumming City Center\, 423 Canton Road\, Cumming\, GA\, 30040\, United States
END:VEVENT
END:VCALENDAR