BEGIN:VCALENDAR
VERSION:2.0
PRODID:-//City of Cumming - ECPv6.6.1//NONSGML v1.0//EN
CALSCALE:GREGORIAN
METHOD:PUBLISH
X-ORIGINAL-URL:https://www.cityofcumming.net
X-WR-CALDESC:Events for City of Cumming
REFRESH-INTERVAL;VALUE=DURATION:PT1H
X-Robots-Tag:noindex
X-PUBLISHED-TTL:PT1H
BEGIN:VTIMEZONE
TZID:America/New_York
BEGIN:DAYLIGHT
TZOFFSETFROM:-0500
TZOFFSETTO:-0400
TZNAME:EDT
DTSTART:20240310T070000
END:DAYLIGHT
BEGIN:STANDARD
TZOFFSETFROM:-0400
TZOFFSETTO:-0500
TZNAME:EST
DTSTART:20241103T060000
END:STANDARD
END:VTIMEZONE
BEGIN:VEVENT
DTSTART;TZID=America/New_York:20240914T190000
DTEND;TZID=America/New_York:20240914T210000
DTSTAMP:20260425T232039
CREATED:20240910T160856Z
LAST-MODIFIED:20240910T161020Z
UID:12181-1726340400-1726347600@www.cityofcumming.net
SUMMARY:Purple Madness: Prince Tribute at City Center
DESCRIPTION:Come out to the City Center Lou Sobh Amphitheater for all the hits of Princes by Purple Madness! \nPresented by The Well\, Los Rios Cantina and Tin Cup Grill\n\nCalling all Prince fans!!! PURPLE MADNESS — PRINCE TRIBUTE CONCERT at the Lou Sobh Amphitheater Sept. 14th from 7-9pm!\n\nPurple Madness is the #1 Prince tribute in the country. If you love Prince\, you will love this concert.\n\nReminders: Free parking and free admission. BYO lawn chairs or blankets. Friendly\, leashed dogs always welcome! No outside food or alcohol. No coolers. No smoking (includes vaping and cigars\, etc.). No tents.\n\nPresented by The Well\, Los Rios Cantina\, and Tin Cup Grill.\n\nFree admission & free parking. No coolers\, outside food\, outside alcoholic beverages\, cans\, glass bottles\, or smoking allowed. Friendly dogs on-leash are welcome! BYO lawn chairs or blankets to sit on. Tents are not allowed.\n\nTo ensure the safety and enjoyment of our patrons\, it is required that all balls are stored away once the music starts. Any throwing or kicking of objects is strictly prohibited during the show.
URL:https://www.cityofcumming.net/event/purple-madness-prince-tribute-at-city-center
LOCATION:Cumming City Center\, 423 Canton Road\, Cumming\, GA\, 30040\, United States
END:VEVENT
END:VCALENDAR