BEGIN:VCALENDAR
VERSION:2.0
PRODID:-//City of Cumming - ECPv6.6.1//NONSGML v1.0//EN
CALSCALE:GREGORIAN
METHOD:PUBLISH
X-ORIGINAL-URL:https://www.cityofcumming.net
X-WR-CALDESC:Events for City of Cumming
REFRESH-INTERVAL;VALUE=DURATION:PT1H
X-Robots-Tag:noindex
X-PUBLISHED-TTL:PT1H
BEGIN:VTIMEZONE
TZID:America/New_York
BEGIN:DAYLIGHT
TZOFFSETFROM:-0500
TZOFFSETTO:-0400
TZNAME:EDT
DTSTART:20240310T070000
END:DAYLIGHT
BEGIN:STANDARD
TZOFFSETFROM:-0400
TZOFFSETTO:-0500
TZNAME:EST
DTSTART:20241103T060000
END:STANDARD
END:VTIMEZONE
BEGIN:VEVENT
DTSTART;TZID=America/New_York:20240928T193000
DTEND;TZID=America/New_York:20240928T220000
DTSTAMP:20260425T232110
CREATED:20240603T204213Z
LAST-MODIFIED:20240927T201041Z
UID:11931-1727551800-1727560800@www.cityofcumming.net
SUMMARY:Game Day Watch Party at the City Center
DESCRIPTION:Join us for GAME DAY WATCH PARTY Presented by Willis Group‼️🏈 Saturday\, September 28th starting at 7:30 p.m. Watch the UGA vs. Alabama game on the big screen in Lou Sobh Amphitheater with the company of family & friends. \nReminders: BYO lawn chairs or blankets. Friendly\, leashed dogs welcome! Free parking & free admission! No coolers\, no outside food or alcohol\, no glass or cans\, no smoking (including vaping\, cigars\, etc.)\, and no tents.
URL:https://www.cityofcumming.net/event/game-day-watch-party-at-the-city-center-2
LOCATION:GA
END:VEVENT
END:VCALENDAR