BEGIN:VCALENDAR
VERSION:2.0
PRODID:-//City of Cumming - ECPv6.6.1//NONSGML v1.0//EN
CALSCALE:GREGORIAN
METHOD:PUBLISH
X-WR-CALNAME:City of Cumming
X-ORIGINAL-URL:https://www.cityofcumming.net
X-WR-CALDESC:Events for City of Cumming
REFRESH-INTERVAL;VALUE=DURATION:PT1H
X-Robots-Tag:noindex
X-PUBLISHED-TTL:PT1H
BEGIN:VTIMEZONE
TZID:America/New_York
BEGIN:DAYLIGHT
TZOFFSETFROM:-0500
TZOFFSETTO:-0400
TZNAME:EDT
DTSTART:20240310T070000
END:DAYLIGHT
BEGIN:STANDARD
TZOFFSETFROM:-0400
TZOFFSETTO:-0500
TZNAME:EST
DTSTART:20241103T060000
END:STANDARD
END:VTIMEZONE
BEGIN:VEVENT
DTSTART;TZID=America/New_York:20241103T140000
DTEND;TZID=America/New_York:20241103T170000
DTSTAMP:20260422T071811
CREATED:20241008T141310Z
LAST-MODIFIED:20241008T141310Z
UID:12270-1730642400-1730653200@www.cityofcumming.net
SUMMARY:Sounds of the Saxophone with Jordan Thorne at the City Center
DESCRIPTION:Jordan Thorne\, a baritone saxophonist\, will be performing on Main Street (Vision Drive) at the Cumming City Center. \nJoin us every other Sunday afternoon from 2 p.m. to 5 p.m. for shopping and dining as Thorne fills the street with his music!
URL:https://www.cityofcumming.net/event/sounds-of-the-saxophone-with-jordan-thorne-at-the-city-center-5
LOCATION:Cumming City Center\, 423 Canton Road\, Cumming\, GA\, 30040\, United States
END:VEVENT
END:VCALENDAR