BEGIN:VCALENDAR
VERSION:2.0
PRODID:-//City of Cumming - ECPv6.6.1//NONSGML v1.0//EN
CALSCALE:GREGORIAN
METHOD:PUBLISH
X-ORIGINAL-URL:https://www.cityofcumming.net
X-WR-CALDESC:Events for City of Cumming
REFRESH-INTERVAL;VALUE=DURATION:PT1H
X-Robots-Tag:noindex
X-PUBLISHED-TTL:PT1H
BEGIN:VTIMEZONE
TZID:America/New_York
BEGIN:DAYLIGHT
TZOFFSETFROM:-0500
TZOFFSETTO:-0400
TZNAME:EDT
DTSTART:20240310T070000
END:DAYLIGHT
BEGIN:STANDARD
TZOFFSETFROM:-0400
TZOFFSETTO:-0500
TZNAME:EST
DTSTART:20241103T060000
END:STANDARD
END:VTIMEZONE
BEGIN:VEVENT
DTSTART;TZID=America/New_York:20241121T110000
DTEND;TZID=America/New_York:20241121T160000
DTSTAMP:20260424T142615
CREATED:20241008T143553Z
LAST-MODIFIED:20241008T143641Z
UID:12282-1732186800-1732204800@www.cityofcumming.net
SUMMARY:Life South Season of Giving Blood Drive at the City Center
DESCRIPTION:Come and be a part of the Life South Season of Giving Blood Drive at the Cumming City Center on November 21st\, from 11 AM to 4 PM. As a token of appreciation\, every donor will receive a $20 e-gift card\, and those who choose to donate double reds will be rewarded with a $40 e-gift card! Don’t miss this opportunity to make a meaningful impact—register today and give the gift of life!
URL:https://www.cityofcumming.net/event/life-south-season-of-giving-blood-drive-at-the-city-center
LOCATION:Cumming City Center\, 423 Canton Road\, Cumming\, GA\, 30040\, United States
END:VEVENT
END:VCALENDAR