BEGIN:VCALENDAR
VERSION:2.0
PRODID:-//City of Cumming - ECPv6.6.1//NONSGML v1.0//EN
CALSCALE:GREGORIAN
METHOD:PUBLISH
X-ORIGINAL-URL:https://www.cityofcumming.net
X-WR-CALDESC:Events for City of Cumming
REFRESH-INTERVAL;VALUE=DURATION:PT1H
X-Robots-Tag:noindex
X-PUBLISHED-TTL:PT1H
BEGIN:VTIMEZONE
TZID:America/New_York
BEGIN:DAYLIGHT
TZOFFSETFROM:-0500
TZOFFSETTO:-0400
TZNAME:EDT
DTSTART:20240310T070000
END:DAYLIGHT
BEGIN:STANDARD
TZOFFSETFROM:-0400
TZOFFSETTO:-0500
TZNAME:EST
DTSTART:20241103T060000
END:STANDARD
END:VTIMEZONE
BEGIN:VEVENT
DTSTART;TZID=America/New_York:20241217T170000
DTEND;TZID=America/New_York:20241217T173000
DTSTAMP:20260424T230509
CREATED:20240408T231621Z
LAST-MODIFIED:20240723T152218Z
UID:11686-1734454800-1734456600@www.cityofcumming.net
SUMMARY:Planning & Zoning Board Meeting
DESCRIPTION:Check this page on the Monday prior to the meeting for the meeting agenda: https://www.cityofcumming.net/planning-board-agendas-and-meeting-minutes
URL:https://www.cityofcumming.net/event/planning-zoning-board-meeting-28
LOCATION:Cumming City Hall (Council Chambers – Third Floor)
END:VEVENT
BEGIN:VEVENT
DTSTART;TZID=America/New_York:20241217T180000
DTEND;TZID=America/New_York:20241217T190000
DTSTAMP:20260424T230509
CREATED:20240408T204421Z
LAST-MODIFIED:20240723T152149Z
UID:11652-1734458400-1734462000@www.cityofcumming.net
SUMMARY:City Council Regular Meeting
DESCRIPTION:Check this page the Monday prior to the meeting for the agenda: https://www.cityofcumming.net/city-council-agendas-and-meeting-minutes
URL:https://www.cityofcumming.net/event/city-council-regular-meeting-32
LOCATION:Cumming City Hall (Council Chambers – Third Floor)
END:VEVENT
END:VCALENDAR