BEGIN:VCALENDAR
VERSION:2.0
PRODID:-//City of Cumming - ECPv6.6.1//NONSGML v1.0//EN
CALSCALE:GREGORIAN
METHOD:PUBLISH
X-ORIGINAL-URL:https://www.cityofcumming.net
X-WR-CALDESC:Events for City of Cumming
REFRESH-INTERVAL;VALUE=DURATION:PT1H
X-Robots-Tag:noindex
X-PUBLISHED-TTL:PT1H
BEGIN:VTIMEZONE
TZID:America/New_York
BEGIN:DAYLIGHT
TZOFFSETFROM:-0500
TZOFFSETTO:-0400
TZNAME:EDT
DTSTART:20250309T070000
END:DAYLIGHT
BEGIN:STANDARD
TZOFFSETFROM:-0400
TZOFFSETTO:-0500
TZNAME:EST
DTSTART:20251102T060000
END:STANDARD
END:VTIMEZONE
BEGIN:VEVENT
DTSTART;TZID=America/New_York:20250322T090000
DTEND;TZID=America/New_York:20250322T130000
DTSTAMP:20260424T001815
CREATED:20250307T195900Z
LAST-MODIFIED:20250307T195900Z
UID:12759-1742634000-1742648400@www.cityofcumming.net
SUMMARY:Household Hazardous Waste Recycling & Disposal at Fairgrounds
DESCRIPTION:Come out to the Cumming Fairgrounds’ Parking Lot #3 from 9 a.m. to 1 p.m. on Saturday\, March 22nd for the Keep Forsyth County Beautiful Spring Household Hazardous Waste Recycling & Disposal Event (pre-registration for this event is required; register at keepforsythcountybeautiful.org).
URL:https://www.cityofcumming.net/event/household-hazardous-waste-recycling-disposal-at-fairgrounds
LOCATION:Cumming Fairgrounds Parking Lot 3
END:VEVENT
BEGIN:VEVENT
DTSTART;TZID=America/New_York:20250322T150000
DTEND;TZID=America/New_York:20250322T170000
DTSTAMP:20260424T001815
CREATED:20250306T170837Z
LAST-MODIFIED:20250306T170837Z
UID:12670-1742655600-1742662800@www.cityofcumming.net
SUMMARY:Extra Special Talent Competition at City Center
DESCRIPTION:SliceAbility and the Cumming City Center present an Extra Special Talent Competition at the Lou Sobh Amphitheater. This talent show is for individuals with physical\, intellectual or developmental disabilities.
URL:https://www.cityofcumming.net/event/extra-special-talent-competition-at-city-center
LOCATION:Cumming City Center\, 423 Canton Road\, Cumming\, GA\, 30040\, United States
END:VEVENT
BEGIN:VEVENT
DTSTART;TZID=America/New_York:20250322T190000
DTEND;TZID=America/New_York:20250322T210000
DTSTAMP:20260424T001815
CREATED:20250305T203618Z
LAST-MODIFIED:20250305T203618Z
UID:12594-1742670000-1742677200@www.cityofcumming.net
SUMMARY:Mad Hatters: Tom Petty & The Heartbreakers Tribute at City Center
DESCRIPTION:Come out to the City Center’s Lou Sobh Amphitheater for a great\, free concert!
URL:https://www.cityofcumming.net/event/mad-hatters-tom-petty-the-heartbreakers-tribute-at-city-center
LOCATION:Cumming City Center\, 423 Canton Road\, Cumming\, GA\, 30040\, United States
END:VEVENT
END:VCALENDAR