BEGIN:VCALENDAR
VERSION:2.0
PRODID:-//City of Cumming - ECPv6.6.1//NONSGML v1.0//EN
CALSCALE:GREGORIAN
METHOD:PUBLISH
X-ORIGINAL-URL:https://www.cityofcumming.net
X-WR-CALDESC:Events for City of Cumming
REFRESH-INTERVAL;VALUE=DURATION:PT1H
X-Robots-Tag:noindex
X-PUBLISHED-TTL:PT1H
BEGIN:VTIMEZONE
TZID:America/New_York
BEGIN:DAYLIGHT
TZOFFSETFROM:-0500
TZOFFSETTO:-0400
TZNAME:EDT
DTSTART:20250309T070000
END:DAYLIGHT
BEGIN:STANDARD
TZOFFSETFROM:-0400
TZOFFSETTO:-0500
TZNAME:EST
DTSTART:20251102T060000
END:STANDARD
END:VTIMEZONE
BEGIN:VEVENT
DTSTART;TZID=America/New_York:20250506T180000
DTEND;TZID=America/New_York:20250506T190000
DTSTAMP:20260425T070241
CREATED:20241114T205618Z
LAST-MODIFIED:20241114T205618Z
UID:12370-1746554400-1746558000@www.cityofcumming.net
SUMMARY:City Council Work Session
DESCRIPTION:Check this page the Monday prior to the meeting for the agenda: https://www.cityofcumming.net/city-council-agendas-and-meeting-minutes 
URL:https://www.cityofcumming.net/event/city-council-work-session-34
LOCATION:GA
END:VEVENT
BEGIN:VEVENT
DTSTART;TZID=America/New_York:20250506T183000
DTEND;TZID=America/New_York:20250506T213000
DTSTAMP:20260425T070241
CREATED:20250331T182216Z
LAST-MODIFIED:20250331T182216Z
UID:12834-1746556200-1746567000@www.cityofcumming.net
SUMMARY:Singles Social Tuesdays at City Center - Santa Maria
DESCRIPTION:Experience the excitement of Singles Social Tuesdays at The Loft at Santa Maria on May 6th. This event is a fantastic opportunity for people of all ages to come together and have a great time! It’s not just a fun hangout for singles to connect\, but also an amazing chance for new friendships to blossom. Whether you’re looking to meet someone special or simply enjoy meeting new people\, you’ll find plenty of chances to laugh\, share stories\, and make memories. Everyone’s welcome\, and you never know — you might just leave with a new friend or a great connection!
URL:https://www.cityofcumming.net/event/singles-social-tuesdays-at-city-center-santa-maria-2
LOCATION:Cumming City Center\, 423 Canton Road\, Cumming\, GA\, 30040\, United States
END:VEVENT
END:VCALENDAR