BEGIN:VCALENDAR
VERSION:2.0
PRODID:-//City of Cumming - ECPv6.6.1//NONSGML v1.0//EN
CALSCALE:GREGORIAN
METHOD:PUBLISH
X-ORIGINAL-URL:https://www.cityofcumming.net
X-WR-CALDESC:Events for City of Cumming
REFRESH-INTERVAL;VALUE=DURATION:PT1H
X-Robots-Tag:noindex
X-PUBLISHED-TTL:PT1H
BEGIN:VTIMEZONE
TZID:America/New_York
BEGIN:DAYLIGHT
TZOFFSETFROM:-0500
TZOFFSETTO:-0400
TZNAME:EDT
DTSTART:20250309T070000
END:DAYLIGHT
BEGIN:STANDARD
TZOFFSETFROM:-0400
TZOFFSETTO:-0500
TZNAME:EST
DTSTART:20251102T060000
END:STANDARD
END:VTIMEZONE
BEGIN:VEVENT
DTSTART;TZID=America/New_York:20250902T110000
DTEND;TZID=America/New_York:20250902T120000
DTSTAMP:20260424T153203
CREATED:20250808T154558Z
LAST-MODIFIED:20250808T154558Z
UID:13172-1756810800-1756814400@www.cityofcumming.net
SUMMARY:Once Upon a Tuesday: Storytime with FoCo Library
DESCRIPTION:Gather the whole family and head to the Cumming City Center for an enchanting Storytime hosted by the Forsyth County Public Library!Enjoy a delightful mix of books\, music\, and a lively puppet show at the Lou Sobh Amphitheater.This free event takes place on the first Tuesday of every month from 11 AM-12 PM through October\, so mark your calendars and don’t miss out on the fun.
URL:https://www.cityofcumming.net/event/once-upon-a-tuesday-storytime-with-foco-library
LOCATION:Cumming City Center\, 423 Canton Road\, Cumming\, GA\, 30040\, United States
END:VEVENT
BEGIN:VEVENT
DTSTART;TZID=America/New_York:20250902T180000
DTEND;TZID=America/New_York:20250902T190000
DTSTAMP:20260424T153204
CREATED:20241114T210117Z
LAST-MODIFIED:20241114T210117Z
UID:12386-1756836000-1756839600@www.cityofcumming.net
SUMMARY:City Council Work Session
DESCRIPTION:Check this page the Monday prior to the meeting for the agenda: https://www.cityofcumming.net/city-council-agendas-and-meeting-minutes 
URL:https://www.cityofcumming.net/event/city-council-work-session-38
LOCATION:GA
END:VEVENT
END:VCALENDAR