BEGIN:VCALENDAR
VERSION:2.0
PRODID:-//City of Cumming - ECPv6.6.1//NONSGML v1.0//EN
CALSCALE:GREGORIAN
METHOD:PUBLISH
X-ORIGINAL-URL:https://www.cityofcumming.net
X-WR-CALDESC:Events for City of Cumming
REFRESH-INTERVAL;VALUE=DURATION:PT1H
X-Robots-Tag:noindex
X-PUBLISHED-TTL:PT1H
BEGIN:VTIMEZONE
TZID:America/New_York
BEGIN:DAYLIGHT
TZOFFSETFROM:-0500
TZOFFSETTO:-0400
TZNAME:EDT
DTSTART:20250309T070000
END:DAYLIGHT
BEGIN:STANDARD
TZOFFSETFROM:-0400
TZOFFSETTO:-0500
TZNAME:EST
DTSTART:20251102T060000
END:STANDARD
END:VTIMEZONE
BEGIN:VEVENT
DTSTART;TZID=America/New_York:20251001T180000
DTEND;TZID=America/New_York:20251001T190000
DTSTAMP:20260421T025124
CREATED:20250922T192840Z
LAST-MODIFIED:20250922T192840Z
UID:13326-1759341600-1759345200@www.cityofcumming.net
SUMMARY:Cumming Disability Council Meeting
DESCRIPTION:Join Mayor Troy Brumbalow for the next meeting of the Cumming Mayor’s Disability Council on Wednesday\, October 1st at 6 p.m. on third floor of City Hall\, 100 Main Street! All are welcome!
URL:https://www.cityofcumming.net/event/cumming-disability-council-meeting-2
LOCATION:Cumming City Hall (Council Chambers – Third Floor)
END:VEVENT
END:VCALENDAR