BEGIN:VCALENDAR
VERSION:2.0
PRODID:-//City of Cumming - ECPv6.6.1//NONSGML v1.0//EN
CALSCALE:GREGORIAN
METHOD:PUBLISH
X-WR-CALNAME:City of Cumming
X-ORIGINAL-URL:https://www.cityofcumming.net
X-WR-CALDESC:Events for City of Cumming
REFRESH-INTERVAL;VALUE=DURATION:PT1H
X-Robots-Tag:noindex
X-PUBLISHED-TTL:PT1H
BEGIN:VTIMEZONE
TZID:America/New_York
BEGIN:DAYLIGHT
TZOFFSETFROM:-0500
TZOFFSETTO:-0400
TZNAME:EDT
DTSTART:20260308T070000
END:DAYLIGHT
BEGIN:STANDARD
TZOFFSETFROM:-0400
TZOFFSETTO:-0500
TZNAME:EST
DTSTART:20261101T060000
END:STANDARD
END:VTIMEZONE
BEGIN:VEVENT
DTSTART;TZID=America/New_York:20260424T190000
DTEND;TZID=America/New_York:20260424T210000
DTSTAMP:20260424T082506
CREATED:20260113T170530Z
LAST-MODIFIED:20260113T170530Z
UID:13632-1777057200-1777064400@www.cityofcumming.net
SUMMARY:90's Kid at Lou Sobh Amphitheater
DESCRIPTION:90’s Kids covers all styles of 90s music\, including dance\, pop\, and rock hits! NEW KIDS brings ultra hi-energy. A full 90’s show\, from the stage to the audience! We’re the same band members as the very popular “Kids in America” Totally 80’s Tribute band!\nPLAYING HITS FROM ARTISTS LIKE –Madonna\, No Doubt\, Oasis\, Prince\, Spice girls\, N Sync\, Ace of base\, Guns n Roses\, U2\, Beastie Boy\, Ricky Martin\, Smash Mouth\, Foo fighters\, Nirvana\, and much more!\n\nSpring Concert Series at the Lou Sobh Amphitheater brought to you by The Providence Group.\n\nREMINDER: Free admission & free parking. No coolers\, outside food\, outside alcoholic beverages\, cans\, glass bottles\, or smoking allowed. Friendly dogs on-leash are welcome! BYO lawn chairs or blankets to sit on. Tents are not allowed.To ensure the safety and enjoyment of our patrons\, it is required that all balls are stored away once the music starts. Any throwing or kicking of objects is strictly prohibited during the show.
URL:https://www.cityofcumming.net/event/90s-kid-at-lou-sobh-amphitheater
LOCATION:Cumming City Center\, 423 Canton Road\, Cumming\, GA\, 30040\, United States
END:VEVENT
END:VCALENDAR