BEGIN:VCALENDAR
VERSION:2.0
PRODID:-//City of Cumming - ECPv6.6.1//NONSGML v1.0//EN
CALSCALE:GREGORIAN
METHOD:PUBLISH
X-WR-CALNAME:City of Cumming
X-ORIGINAL-URL:https://www.cityofcumming.net
X-WR-CALDESC:Events for City of Cumming
REFRESH-INTERVAL;VALUE=DURATION:PT1H
X-Robots-Tag:noindex
X-PUBLISHED-TTL:PT1H
BEGIN:VTIMEZONE
TZID:America/New_York
BEGIN:DAYLIGHT
TZOFFSETFROM:-0500
TZOFFSETTO:-0400
TZNAME:EDT
DTSTART:20260308T070000
END:DAYLIGHT
BEGIN:STANDARD
TZOFFSETFROM:-0400
TZOFFSETTO:-0500
TZNAME:EST
DTSTART:20261101T060000
END:STANDARD
END:VTIMEZONE
BEGIN:VEVENT
DTSTART;TZID=America/New_York:20260515T200000
DTEND;TZID=America/New_York:20260515T220000
DTSTAMP:20260425T214423
CREATED:20260114T175645Z
LAST-MODIFIED:20260114T175645Z
UID:13674-1778875200-1778882400@www.cityofcumming.net
SUMMARY:Interstellar Echoes: Pink Floyd Tribute at Lou Sobh Amphitheater
DESCRIPTION:Members of Interstellar Echoes pride themselves on accurately reproducing the legendary catalog of Pink Floyd. Obsessed with the sounds\, sights\, and lore of this global music icon\, Interstellar Echoes goes to great lengths to provide a meticulously researched\, fully immersive live experience consisting of classic staples\, as well as deep cuts that will please even the most die-hard Pink Floyd fan. Please join us for an unforgettable night of Pink Floyd classics!\n\nSpring Concert Series at the Lou Sobh Amphitheater brought to you by The Providence Group.\n\nREMINDER: Free admission & free parking. No coolers\, outside food\, outside alcoholic beverages\, cans\, glass bottles\, or smoking allowed. Friendly dogs on-leash are welcome! BYO lawn chairs or blankets to sit on. Tents are not allowed.To ensure the safety and enjoyment of our patrons\, it is required that all balls are stored away once the music starts. Any throwing or kicking of objects is strictly prohibited during the show.
URL:https://www.cityofcumming.net/event/interstellar-echoes-pink-floyd-tribute-at-lou-sobh-amphitheater
LOCATION:Cumming City Center\, 423 Canton Road\, Cumming\, GA\, 30040\, United States
END:VEVENT
END:VCALENDAR